BEGIN:VCALENDAR
VERSION:2.0
PRODID:-//H.Preiss International - ECPv6.13.1//NONSGML v1.0//EN
CALSCALE:GREGORIAN
METHOD:PUBLISH
X-WR-CALNAME:H.Preiss International
X-ORIGINAL-URL:https://hpreiss.de
X-WR-CALDESC:Events for H.Preiss International
REFRESH-INTERVAL;VALUE=DURATION:PT1H
X-Robots-Tag:noindex
X-PUBLISHED-TTL:PT1H
BEGIN:VTIMEZONE
TZID:Europe/Berlin
BEGIN:DAYLIGHT
TZOFFSETFROM:+0100
TZOFFSETTO:+0200
TZNAME:CEST
DTSTART:20250330T010000
END:DAYLIGHT
BEGIN:STANDARD
TZOFFSETFROM:+0200
TZOFFSETTO:+0100
TZNAME:CET
DTSTART:20251026T010000
END:STANDARD
END:VTIMEZONE
BEGIN:VEVENT
DTSTART;VALUE=DATE:20250712
DTEND;VALUE=DATE:20250713
DTSTAMP:20260419T222900
CREATED:20241210T103213Z
LAST-MODIFIED:20250528T092009Z
UID:29369-1752278400-1752364799@hpreiss.de
SUMMARY:H.Preiss Akademie - Wissensforum für Partner
DESCRIPTION:Wir laden euch zum H.Preiss Akademie – Wissensforum für Partner ein.\n(aquaSpin\, 2-Phasen-Technologie\, Wasserstoff\, HELIO\, Membran-Technologie\, Vortrag\, etc.) \nTRAINING DAY\n„Modelling of excellence – lerne von den Besten!“\n„Am 12. Juli seid Ihr im Rahmen des Wissensforums der H.Preiss Akademie\nzum TRANING DAY in der Water World in Ipsheim eingeladen. Inhaltlich werden wir sehr praxisorientiert die Präsentation unseres erweiterten Produktsortiments vorstellen.”\n“Denn\, was der Kunde nicht sieht\, das kauft er nicht!“ \nSchwerpunkte TRAINING DAY: \nIch präsentiere meinem Kunden:\n– aquaSpin\n– HELIO\n– Wasserstoff-Wasser\n– 2-Phasen-Technologie \nDarüber hinaus werden wir interessante Produktneuheiten und Innovationen vorstellen! \nZeitplan\n10.00 bis 11.00 Uhr Incoming mit Happy Hour\n11.00 bis 13.00 Uhr Wissensforum Teil 1\n13.00 bis 13.45 Uhr Mittagspause – Nudelbuffet\n13.45 bis 16.00 Uhr Wissensforum Teil 2\n16.00 bis 16.30 Uhr Kaffee-Pause\n16.30 bis 18.00 Uhr Wissensforum Teil 3 \nSeminargebühren inkl. Verpflegung: 29\,00 € pro Person \nJETZT TICKETS SICHERN
URL:https://hpreiss.de/event/1-h-preiss-akademie-wissensforum-fuer-partner/
LOCATION:WATER WORLD\, Wasserallee 1-3\, 91472 Ipsheim\, Deutschland
CATEGORIES:Event
ORGANIZER;CN="H.Preiss International":MAILTO:info@hpreiss.de
END:VEVENT
END:VCALENDAR