BEGIN:VCALENDAR
VERSION:2.0
PRODID:-//H.Preiss International - ECPv6.13.1//NONSGML v1.0//EN
CALSCALE:GREGORIAN
METHOD:PUBLISH
X-ORIGINAL-URL:https://hpreiss.de
X-WR-CALDESC:Events for H.Preiss International
REFRESH-INTERVAL;VALUE=DURATION:PT1H
X-Robots-Tag:noindex
X-PUBLISHED-TTL:PT1H
BEGIN:VTIMEZONE
TZID:Europe/Berlin
BEGIN:DAYLIGHT
TZOFFSETFROM:+0100
TZOFFSETTO:+0200
TZNAME:CEST
DTSTART:20250330T010000
END:DAYLIGHT
BEGIN:STANDARD
TZOFFSETFROM:+0200
TZOFFSETTO:+0100
TZNAME:CET
DTSTART:20251026T010000
END:STANDARD
END:VTIMEZONE
BEGIN:VEVENT
DTSTART;TZID=Europe/Berlin:20250804T080000
DTEND;TZID=Europe/Berlin:20250804T093000
DTSTAMP:20260420T194302
CREATED:20241210T084507Z
LAST-MODIFIED:20250814T055837Z
UID:29352-1754294400-1754299800@hpreiss.de
SUMMARY:Online Monteur Meeting - August
DESCRIPTION:Wir freuen uns auf regen Austausch mit unseren Monteuren und freuen uns bereits jetzt drauf unseren Service stetig zu verbessern.
URL:https://hpreiss.de/event/online-monteur-meeting-august/
LOCATION:Online
CATEGORIES:Online-Meeting
ATTACH;FMTTYPE=image/png:https://hpreiss.de/wp-content/uploads/Online_Monteurmeeting.png
ORGANIZER;CN="H.Preiss International":MAILTO:info@hpreiss.de
END:VEVENT
BEGIN:VEVENT
DTSTART;TZID=Europe/Berlin:20250804T110000
DTEND;TZID=Europe/Berlin:20250804T130000
DTSTAMP:20260420T194302
CREATED:20241210T081643Z
LAST-MODIFIED:20250814T054303Z
UID:29334-1754305200-1754312400@hpreiss.de
SUMMARY:Online Manager Meeting - August
DESCRIPTION:Wir freuen uns auf einen regen Austausch bei unserem monatlichen Online-Managermeeting.
URL:https://hpreiss.de/event/online-manager-meeting-august/
LOCATION:Online
CATEGORIES:Online-Meeting
ATTACH;FMTTYPE=image/png:https://hpreiss.de/wp-content/uploads/Online_Managermeeting.png
ORGANIZER;CN="H.Preiss International":MAILTO:info@hpreiss.de
END:VEVENT
BEGIN:VEVENT
DTSTART;TZID=Europe/Berlin:20250811T180000
DTEND;TZID=Europe/Berlin:20250811T210000
DTSTAMP:20260420T194302
CREATED:20241210T072628Z
LAST-MODIFIED:20250814T055155Z
UID:29315-1754935200-1754946000@hpreiss.de
SUMMARY:Online Verkäufer Meeting - August
DESCRIPTION:Wir freuen uns auf einen regen Austausch bei unserem monatlichen Online-Verkäufermeeting.
URL:https://hpreiss.de/event/online-verkaeufer-meeting-august/
LOCATION:Online
CATEGORIES:Online-Meeting
ATTACH;FMTTYPE=image/png:https://hpreiss.de/wp-content/uploads/Online_Verkaufsmeeting.png
ORGANIZER;CN="H.Preiss International":MAILTO:info@hpreiss.de
END:VEVENT
END:VCALENDAR