BEGIN:VCALENDAR
VERSION:2.0
PRODID:-//H.Preiss International - ECPv6.13.1//NONSGML v1.0//EN
CALSCALE:GREGORIAN
METHOD:PUBLISH
X-WR-CALNAME:H.Preiss International
X-ORIGINAL-URL:https://hpreiss.de
X-WR-CALDESC:Veranstaltungen für H.Preiss International
REFRESH-INTERVAL;VALUE=DURATION:PT1H
X-Robots-Tag:noindex
X-PUBLISHED-TTL:PT1H
BEGIN:VTIMEZONE
TZID:Europe/Berlin
BEGIN:DAYLIGHT
TZOFFSETFROM:+0100
TZOFFSETTO:+0200
TZNAME:CEST
DTSTART:20240331T010000
END:DAYLIGHT
BEGIN:STANDARD
TZOFFSETFROM:+0200
TZOFFSETTO:+0100
TZNAME:CET
DTSTART:20241027T010000
END:STANDARD
END:VTIMEZONE
BEGIN:VEVENT
DTSTART;TZID=Europe/Berlin:20241003T120000
DTEND;TZID=Europe/Berlin:20241004T170000
DTSTAMP:20260424T124211
CREATED:20240910T115606Z
LAST-MODIFIED:20240910T115850Z
UID:28520-1727956800-1728061200@hpreiss.de
SUMMARY:Wasser-Symposium 2024
DESCRIPTION:Unter dem Motto „Lebensqualität – Wohlbefinden – Genuss“ haben wir einen illustren Kreis namhafter Speaker und Experten zu diesem 2-tägigen Highlight-Seminar engagiert. \nWas erwartet dich: \n\nInspirationen und ultimatives Fach-Wissen\nPersönliches Wachstum und Perspektiven\nEnergiepotenzial und Motivationstools\nInnovative Methoden und topaktuelle Techniken\nKommunikativer Erfahrungsaustausch und Netzwerkerweiterung\nNoch mehr Informationen und das Line-Up findest du HIER \n\n>>>HIER TICKET KAUFEN<<<
URL:https://hpreiss.de/event/wasser-symposium-2024/
LOCATION:WATER WORLD\, Wasserallee 1-3\, 91472 Ipsheim\, Deutschland
ORGANIZER;CN="H.Preiss International":MAILTO:info@hpreiss.de
END:VEVENT
BEGIN:VEVENT
DTSTART;TZID=Europe/Berlin:20241005T090000
DTEND;TZID=Europe/Berlin:20241005T170000
DTSTAMP:20260424T124211
CREATED:20240910T094943Z
LAST-MODIFIED:20240923T130309Z
UID:28513-1728118800-1728147600@hpreiss.de
SUMMARY:HELIO – Einführungs-Workshop
DESCRIPTION:wir freuen uns\, Euch zu einem besonderen Ereignis einzuladen: unserem HELIO-Einführungs-Workshop! Dieser Workshop ist der perfekte Start\, um unsere Verkaufsstrategien zu verfeinern\, tief in die Messtechnik einzutauchen und uns als Team zu stärken. \nWann: 05.10.2024 von 09:00 bis 17:00 Uhr\nWo: Water World\, Wasserallee 1-3\, 91472 Ipsheim \nAnmeldeschluss: 01.10.2024 \n>>>HIER ANMELDEN<<<\nWas erwartet Euch? \n\nVerkaufspräsentation: Lernt die perfekte Argumentation\, um unsere Produkte erfolgreich zu präsentieren und Kunden zu überzeugen.\nSchulung der Messtechnik: Wir vermitteln das notwendige technische Know-how\, damit Ihr im Detail über unsere innovativen Lösungen Bescheid wisst.\nGruppenarbeit: Gemeinsam erarbeiten wir kreative Ansätze und entwickeln neue Ideen\, die uns im Vertrieb weiterbringen.\nStrategiebesprechung: Lasst uns gemeinsam die nächsten Schritte planen und unsere Erfolgsstrategie verfeinern.\nÜbungen & Beantwortung aller offenen Fragen: Keine Frage bleibt unbeantwortet – wir üben das Gelernte und sorgen dafür\, dass Ihr bestens vorbereitet seid.\n\nDieser Workshop ist die ideale Gelegenheit\, sich intensiv mit unserem Produkt und der Vertriebsstrategie auseinanderzusetzen. Lasst uns zusammen die Grundlage für unseren gemeinsamen Erfolg legen und mit voller Energie durchstarten! \nWir freuen uns auf Eure Teilnahme und einen produktiven Austausch.
URL:https://hpreiss.de/event/helio-einfuehrungs-workshop/
LOCATION:WATER WORLD\, Wasserallee 1-3\, 91472 Ipsheim\, Deutschland
CATEGORIES:Helio
ORGANIZER;CN="H.Preiss International":MAILTO:info@hpreiss.de
END:VEVENT
BEGIN:VEVENT
DTSTART;TZID=Europe/Berlin:20241005T100000
DTEND;TZID=Europe/Berlin:20241005T170000
DTSTAMP:20260424T124211
CREATED:20240813T070819Z
LAST-MODIFIED:20240923T130345Z
UID:28201-1728122400-1728147600@hpreiss.de
SUMMARY:Erfolgreich Starten - Oktober
DESCRIPTION:Starten Sie mit uns in eine erfolgreiche Zukunft!  \nUnser Event „Erfolgreich Starten“ bietet Ihnen die Chance\, die Welt des Handels aus erster Hand zu erleben\, wertvolle Kontakte zu knüpfen und die besten Strategien für Ihren Erfolg zu lernen. \n Egal ob Einsteiger oder Profi – hier legen Sie den Grundstein für Ihre Erfolgsgeschichte. \nSeien Sie dabei\, lassen Sie sich inspirieren\, und machen Sie den ersten Schritt zu einer erfolgreichen Karriere.  \nWir freuen uns darauf\, Sie auf Ihrem Weg zu begleiten! \nMelde dich >>HIER<< direkt an.\n  \nTermin:\n05.10.2024 10-17 Uhr \n 
URL:https://hpreiss.de/event/erfolgreich-starten-oktober/
LOCATION:WATER WORLD\, Wasserallee 1-3\, 91472 Ipsheim\, Deutschland
CATEGORIES:Erfolgreich Starten
ORGANIZER;CN="H.Preiss International":MAILTO:info@hpreiss.de
END:VEVENT
END:VCALENDAR