BEGIN:VCALENDAR
VERSION:2.0
PRODID:-//H.Preiss International - ECPv6.13.1//NONSGML v1.0//EN
CALSCALE:GREGORIAN
METHOD:PUBLISH
X-ORIGINAL-URL:https://hpreiss.de
X-WR-CALDESC:Veranstaltungen für H.Preiss International
REFRESH-INTERVAL;VALUE=DURATION:PT1H
X-Robots-Tag:noindex
X-PUBLISHED-TTL:PT1H
BEGIN:VTIMEZONE
TZID:Europe/Berlin
BEGIN:DAYLIGHT
TZOFFSETFROM:+0100
TZOFFSETTO:+0200
TZNAME:CEST
DTSTART:20250330T010000
END:DAYLIGHT
BEGIN:STANDARD
TZOFFSETFROM:+0200
TZOFFSETTO:+0100
TZNAME:CET
DTSTART:20251026T010000
END:STANDARD
END:VTIMEZONE
BEGIN:VEVENT
DTSTART;TZID=Europe/Berlin:20250404T100000
DTEND;TZID=Europe/Berlin:20250405T150000
DTSTAMP:20260422T135608
CREATED:20241111T134747Z
LAST-MODIFIED:20250124T074754Z
UID:29118-1743760800-1743865200@hpreiss.de
SUMMARY:Erfolgreich Starten - April
DESCRIPTION:Unser Event „Erfolgreich Starten“ entführt dich in die faszinierende Welt des Wassers – voller Innovationen\, Chancen und spannender Möglichkeiten. Erfahre\, wie hochwertiges Wasser Menschen inspiriert und wie du Teil dieser wachsenden Bewegung werden kannst. \nEgal\, ob du als Einsteiger erste Schritte machst oder als Profi neue Impulse suchst – hier legst du den Grundstein für deine Erfolgsgeschichte. Lass dich von Ideen rund um das Thema Wasser begeistern und entdecke dein Potenzial in einer dynamischen Branche mit vielversprechenden Perspektiven. \nMach den ersten Schritt und lass uns gemeinsam die Zukunft gestalten! \nMelde dich direkt an (hier klicken) >> \nTermin:\n04.04.2025 10:00 – ca. 18:00 Uhr\n05.04.2025 09:00 – ca. 15:00 Uhr \nOrt:\nFirmenzentrale Ipsheim „WATER WORLD“
URL:https://hpreiss.de/event/erfolgreich-starten-april/
LOCATION:WATER WORLD\, Wasserallee 1-3\, 91472 Ipsheim\, Deutschland
CATEGORIES:Erfolgreich Starten
ORGANIZER;CN="H.Preiss International":MAILTO:info@hpreiss.de
END:VEVENT
BEGIN:VEVENT
DTSTART;TZID=Europe/Berlin:20250407T080000
DTEND;TZID=Europe/Berlin:20250407T093000
DTSTAMP:20260422T135608
CREATED:20241210T083551Z
LAST-MODIFIED:20241210T083551Z
UID:29344-1744012800-1744018200@hpreiss.de
SUMMARY:Online Monteur Meeting - April
DESCRIPTION:Wir freuen uns auf regen Austausch mit unseren Monteuren und freuen uns bereits jetzt drauf unseren Service stetig zu verbessern.
URL:https://hpreiss.de/event/online-monteur-meeting-april/
LOCATION:Online
CATEGORIES:Online-Meeting
ORGANIZER;CN="H.Preiss International":MAILTO:info@hpreiss.de
END:VEVENT
BEGIN:VEVENT
DTSTART;TZID=Europe/Berlin:20250407T110000
DTEND;TZID=Europe/Berlin:20250407T130000
DTSTAMP:20260422T135608
CREATED:20241210T075359Z
LAST-MODIFIED:20241210T075359Z
UID:29325-1744023600-1744030800@hpreiss.de
SUMMARY:Online Manager Meeting - April
DESCRIPTION:Wir freuen uns auf einen regen Austausch bei unserem monatlichen Online-Managermeeting.
URL:https://hpreiss.de/event/online-manager-meeting-april/
LOCATION:Online
CATEGORIES:Online-Meeting
ORGANIZER;CN="H.Preiss International":MAILTO:info@hpreiss.de
END:VEVENT
BEGIN:VEVENT
DTSTART;TZID=Europe/Berlin:20250407T180000
DTEND;TZID=Europe/Berlin:20250407T210000
DTSTAMP:20260422T135608
CREATED:20241210T072011Z
LAST-MODIFIED:20250211T102951Z
UID:29306-1744048800-1744059600@hpreiss.de
SUMMARY:Online Verkäufer Meeting - April
DESCRIPTION:Wir freuen uns auf einen regen Austausch bei unserem monatlichen Online-Verkäufermeeting.
URL:https://hpreiss.de/event/online-verkaeufer-meeting-april/
LOCATION:Online
CATEGORIES:Online-Meeting
ORGANIZER;CN="H.Preiss International":MAILTO:info@hpreiss.de
END:VEVENT
END:VCALENDAR