BEGIN:VCALENDAR
VERSION:2.0
PRODID:-//H.Preiss International - ECPv6.13.1//NONSGML v1.0//EN
CALSCALE:GREGORIAN
METHOD:PUBLISH
X-ORIGINAL-URL:https://hpreiss.de
X-WR-CALDESC:Veranstaltungen für H.Preiss International
REFRESH-INTERVAL;VALUE=DURATION:PT1H
X-Robots-Tag:noindex
X-PUBLISHED-TTL:PT1H
BEGIN:VTIMEZONE
TZID:Europe/Berlin
BEGIN:DAYLIGHT
TZOFFSETFROM:+0100
TZOFFSETTO:+0200
TZNAME:CEST
DTSTART:20250330T010000
END:DAYLIGHT
BEGIN:STANDARD
TZOFFSETFROM:+0200
TZOFFSETTO:+0100
TZNAME:CET
DTSTART:20251026T010000
END:STANDARD
END:VTIMEZONE
BEGIN:VEVENT
DTSTART;TZID=Europe/Berlin:20250604T090000
DTEND;TZID=Europe/Berlin:20250605T123000
DTSTAMP:20260422T104400
CREATED:20250318T134533Z
LAST-MODIFIED:20250318T140341Z
UID:30817-1749027600-1749126600@hpreiss.de
SUMMARY:Monteur Schulung - Schankanlagen & CO2 Zertifizierung
DESCRIPTION:„Monteur Schulung – Schankanlagen & CO2 Zertifizierung“ mit Jürgen Hoffmann. \n2-tägiger Grundlehrgang für befähigte Personen \nGrundausbildung für die sicherheitstechnische Prüfung von Getränke-Schankanlagen\nnach DGUV Grundsatz 310-007 gemäß Betriebssicherheitsverordnung / TRBS 1203 (ehemals BGG/GUV-G 968) \nZielgruppe: Servicetechniker\, Installateure\, Vertriebsmitarbeiter\, Produktmanager \nDie Kosten werden auf die Teilnehmerzahl umgelegt\, sodass die konkrete Kostenbeteiligung erst nach bekanntwerden der Teilnehmer ermittelt werden kann. \nMelde dich direkt an (hier klicken) >> \nTermin:\n04.06.2025  09:00 – ca. 16:00 Uhr\n05.06.2025  08:00 – ca. 12:30 Uhr \nOrt:\nFirmenzentrale Ipsheim „WATER WORLD“
URL:https://hpreiss.de/event/monteur-schulung-schankanlagen-co2-zertifizierung/
LOCATION:WATER WORLD\, Wasserallee 1-3\, 91472 Ipsheim\, Deutschland
CATEGORIES:Erfolgreich Starten
ORGANIZER;CN="H.Preiss International":MAILTO:info@hpreiss.de
END:VEVENT
BEGIN:VEVENT
DTSTART;TZID=Europe/Berlin:20250606T100000
DTEND;TZID=Europe/Berlin:20250607T150000
DTSTAMP:20260422T104400
CREATED:20250226T171409Z
LAST-MODIFIED:20250520T140234Z
UID:30424-1749204000-1749308400@hpreiss.de
SUMMARY:Erfolgreich Starten - Juni
DESCRIPTION:Unser Event „Erfolgreich Starten“ entführt dich in die faszinierende Welt des Wassers – voller Innovationen\, Chancen und spannender Möglichkeiten. Erfahre\, wie hochwertiges Wasser Menschen inspiriert und wie du Teil dieser wachsenden Bewegung werden kannst. \nEgal\, ob du als Einsteiger erste Schritte machst oder als Profi neue Impulse suchst – hier legst du den Grundstein für deine Erfolgsgeschichte. Lass dich von Ideen rund um das Thema Wasser begeistern und entdecke dein Potenzial in einer dynamischen Branche mit vielversprechenden Perspektiven. \nMach den ersten Schritt und lass uns gemeinsam die Zukunft gestalten! \nMelde dich direkt an (hier klicken) >> \nTermin:\n06.06.2025 10:00 – ca. 18:00 Uhr\n07.06.2025 09:00 – ca. 15:00 Uhr \nOrt:\nFirmenzentrale Ipsheim „WATER WORLD“
URL:https://hpreiss.de/event/erfolgreich-starten-juni/
LOCATION:WATER WORLD\, Wasserallee 1-3\, 91472 Ipsheim\, Deutschland
CATEGORIES:Erfolgreich Starten
ORGANIZER;CN="H.Preiss International":MAILTO:info@hpreiss.de
END:VEVENT
END:VCALENDAR