BEGIN:VCALENDAR
VERSION:2.0
PRODID:-//H.Preiss International - ECPv6.13.1//NONSGML v1.0//EN
CALSCALE:GREGORIAN
METHOD:PUBLISH
X-ORIGINAL-URL:https://hpreiss.de
X-WR-CALDESC:Veranstaltungen für H.Preiss International
REFRESH-INTERVAL;VALUE=DURATION:PT1H
X-Robots-Tag:noindex
X-PUBLISHED-TTL:PT1H
BEGIN:VTIMEZONE
TZID:Europe/Berlin
BEGIN:DAYLIGHT
TZOFFSETFROM:+0100
TZOFFSETTO:+0200
TZNAME:CEST
DTSTART:20250330T010000
END:DAYLIGHT
BEGIN:STANDARD
TZOFFSETFROM:+0200
TZOFFSETTO:+0100
TZNAME:CET
DTSTART:20251026T010000
END:STANDARD
END:VTIMEZONE
BEGIN:VEVENT
DTSTART;TZID=Europe/Berlin:20250704T100000
DTEND;TZID=Europe/Berlin:20250705T150000
DTSTAMP:20260422T084257
CREATED:20250227T072727Z
LAST-MODIFIED:20250827T063858Z
UID:30426-1751623200-1751727600@hpreiss.de
SUMMARY:Erfolgreich Starten - Juli
DESCRIPTION:Unser Event „Erfolgreich Starten“ entführt dich in die faszinierende Welt des Wassers – voller Innovationen\, Chancen und spannender Möglichkeiten. Erfahre\, wie hochwertiges Wasser Menschen inspiriert und wie du Teil dieser wachsenden Bewegung werden kannst. \nEgal\, ob du als Einsteiger erste Schritte machst oder als Profi neue Impulse suchst – hier legst du den Grundstein für deine Erfolgsgeschichte. Lass dich von Ideen rund um das Thema Wasser begeistern und entdecke dein Potenzial in einer dynamischen Branche mit vielversprechenden Perspektiven. \nMach den ersten Schritt und lass uns gemeinsam die Zukunft gestalten! \nMelde dich direkt an (hier klicken) >> \nTermin:\n04.07.2025 10:00 – ca. 18:00 Uhr\n05.07.2025 09:00 – ca. 15:00 Uhr \nOrt:\nFirmenzentrale Ipsheim „WATER WORLD“
URL:https://hpreiss.de/event/erfolgreich-starten-juli/
LOCATION:WATER WORLD\, Wasserallee 1-3\, 91472 Ipsheim\, Deutschland
CATEGORIES:Erfolgreich Starten
ATTACH;FMTTYPE=image/png:https://hpreiss.de/wp-content/uploads/Icon_ErfolgreichStarten.png
ORGANIZER;CN="H.Preiss International":MAILTO:info@hpreiss.de
END:VEVENT
BEGIN:VEVENT
DTSTART;TZID=Europe/Berlin:20250707T080000
DTEND;TZID=Europe/Berlin:20250707T093000
DTSTAMP:20260422T084257
CREATED:20241210T084231Z
LAST-MODIFIED:20250814T055853Z
UID:29350-1751875200-1751880600@hpreiss.de
SUMMARY:Online Monteur Meeting - Juli
DESCRIPTION:Wir freuen uns auf regen Austausch mit unseren Monteuren und freuen uns bereits jetzt drauf unseren Service stetig zu verbessern.
URL:https://hpreiss.de/event/online-monteur-meeting-juli/
LOCATION:Online
ATTACH;FMTTYPE=image/png:https://hpreiss.de/wp-content/uploads/Online_Monteurmeeting.png
ORGANIZER;CN="H.Preiss International":MAILTO:info@hpreiss.de
END:VEVENT
BEGIN:VEVENT
DTSTART;TZID=Europe/Berlin:20250707T110000
DTEND;TZID=Europe/Berlin:20250707T130000
DTSTAMP:20260422T084257
CREATED:20241210T081426Z
LAST-MODIFIED:20241210T081528Z
UID:29332-1751886000-1751893200@hpreiss.de
SUMMARY:Online Manager Meeting - Juli
DESCRIPTION:Wir freuen uns auf einen regen Austausch bei unserem monatlichen Online-Managermeeting.
URL:https://hpreiss.de/event/online-manager-meeting-juli/
LOCATION:Online
CATEGORIES:Online-Meeting
ORGANIZER;CN="H.Preiss International":MAILTO:info@hpreiss.de
END:VEVENT
BEGIN:VEVENT
DTSTART;TZID=Europe/Berlin:20250711T110000
DTEND;TZID=Europe/Berlin:20250711T150000
DTSTAMP:20260422T084257
CREATED:20250528T112923Z
LAST-MODIFIED:20250528T121626Z
UID:31264-1752231600-1752246000@hpreiss.de
SUMMARY:WOW ON-BOARDING-DAY
DESCRIPTION:WAS ERWARTET DICH? \nBUSINESS-PARTNER-MODELL\nVorstellung von Konzept\, Strategie und Einkommensmöglichkeiten. \nKNOW HOW & TRAINING\nDu bekommst wertvolles Wasser-Wissen. Mit der „Water Quick Test Unit“ wird dir von uns gezeigt\, wie\ndu in kürzester Zeit das Wasser deiner Interessenten testest und in Abschlüsse verwandelst. \nMARKETING & SOCIAL MEDIA\nNutze dein Können\, Fachwissen und vorhandenes Netzwerk\, um ohne großen Aufwand Zusatzeinkommen zu erzielen und auch für dich neue Multiplikatoren zu gewinnen. Schaffe neue Zielgruppen über Empfehlungen  und Social Media \nWir freuen uns auch Dich! \nTIMELINE \n11.00 – 12.30 Uhr Wasser-Wissen \nIst-Situation · Herausforderungen · Lösungen \n12.30 – 13.00 Uhr Mittagspause \nNudelbuffet \n13.00 – 14.00 Uhr Water-Quick-Test \nTesterklärung · Übungen · Erklärungen \n14.00 – 15.00 Uhr WOW-Konzept    \nStrategie · Potenzial · Vergütung \nTICKETS HIER SICHERN!
URL:https://hpreiss.de/event/wow-on-boarding-day/
LOCATION:WATER WORLD\, Wasserallee 1-3\, 91472 Ipsheim\, Deutschland
ORGANIZER;CN="H.Preiss International":MAILTO:info@hpreiss.de
END:VEVENT
BEGIN:VEVENT
DTSTART;VALUE=DATE:20250712
DTEND;VALUE=DATE:20250713
DTSTAMP:20260422T084257
CREATED:20241210T103213Z
LAST-MODIFIED:20250528T092009Z
UID:29369-1752278400-1752364799@hpreiss.de
SUMMARY:H.Preiss Akademie - Wissensforum für Partner
DESCRIPTION:Wir laden euch zum H.Preiss Akademie – Wissensforum für Partner ein.\n(aquaSpin\, 2-Phasen-Technologie\, Wasserstoff\, HELIO\, Membran-Technologie\, Vortrag\, etc.) \nTRAINING DAY\n„Modelling of excellence – lerne von den Besten!“\n„Am 12. Juli seid Ihr im Rahmen des Wissensforums der H.Preiss Akademie\nzum TRANING DAY in der Water World in Ipsheim eingeladen. Inhaltlich werden wir sehr praxisorientiert die Präsentation unseres erweiterten Produktsortiments vorstellen.“\n„Denn\, was der Kunde nicht sieht\, das kauft er nicht!“ \nSchwerpunkte TRAINING DAY: \nIch präsentiere meinem Kunden:\n– aquaSpin\n– HELIO\n– Wasserstoff-Wasser\n– 2-Phasen-Technologie \nDarüber hinaus werden wir interessante Produktneuheiten und Innovationen vorstellen! \nZeitplan\n10.00 bis 11.00 Uhr Incoming mit Happy Hour\n11.00 bis 13.00 Uhr Wissensforum Teil 1\n13.00 bis 13.45 Uhr Mittagspause – Nudelbuffet\n13.45 bis 16.00 Uhr Wissensforum Teil 2\n16.00 bis 16.30 Uhr Kaffee-Pause\n16.30 bis 18.00 Uhr Wissensforum Teil 3 \nSeminargebühren inkl. Verpflegung: 29\,00 € pro Person \nJETZT TICKETS SICHERN
URL:https://hpreiss.de/event/1-h-preiss-akademie-wissensforum-fuer-partner/
LOCATION:WATER WORLD\, Wasserallee 1-3\, 91472 Ipsheim\, Deutschland
CATEGORIES:Event
ORGANIZER;CN="H.Preiss International":MAILTO:info@hpreiss.de
END:VEVENT
BEGIN:VEVENT
DTSTART;TZID=Europe/Berlin:20250714T180000
DTEND;TZID=Europe/Berlin:20250714T210000
DTSTAMP:20260422T084257
CREATED:20241210T072505Z
LAST-MODIFIED:20250211T103239Z
UID:29313-1752516000-1752526800@hpreiss.de
SUMMARY:Online Verkäufer Meeting - Juli
DESCRIPTION:Wir freuen uns auf einen regen Austausch bei unserem monatlichen Online-Verkäufermeeting.
URL:https://hpreiss.de/event/online-verkaeufer-meeting-juli/
LOCATION:Online
CATEGORIES:Online-Meeting
ORGANIZER;CN="H.Preiss International":MAILTO:info@hpreiss.de
END:VEVENT
END:VCALENDAR