BEGIN:VCALENDAR
VERSION:2.0
PRODID:-//H.Preiss International - ECPv6.13.1//NONSGML v1.0//EN
CALSCALE:GREGORIAN
METHOD:PUBLISH
X-ORIGINAL-URL:https://hpreiss.de
X-WR-CALDESC:Veranstaltungen für H.Preiss International
REFRESH-INTERVAL;VALUE=DURATION:PT1H
X-Robots-Tag:noindex
X-PUBLISHED-TTL:PT1H
BEGIN:VTIMEZONE
TZID:Europe/Berlin
BEGIN:DAYLIGHT
TZOFFSETFROM:+0100
TZOFFSETTO:+0200
TZNAME:CEST
DTSTART:20250330T010000
END:DAYLIGHT
BEGIN:STANDARD
TZOFFSETFROM:+0200
TZOFFSETTO:+0100
TZNAME:CET
DTSTART:20251026T010000
END:STANDARD
END:VTIMEZONE
BEGIN:VEVENT
DTSTART;VALUE=DATE:20251004
DTEND;VALUE=DATE:20251005
DTSTAMP:20260422T032922
CREATED:20241210T103410Z
LAST-MODIFIED:20250827T064338Z
UID:29371-1759536000-1759622399@hpreiss.de
SUMMARY:2. H.Preiss Akademie Wissensforum für Partner
DESCRIPTION:Wir laden euch zum zweiten H.Preiss Akademie Wissensforum für Partner ein. \nNähere Infos folgen…
URL:https://hpreiss.de/event/2-h-preiss-akademie-wissensforum-fuer-partner/
LOCATION:WATER WORLD\, Wasserallee 1-3\, 91472 Ipsheim\, Deutschland
CATEGORIES:Event
ATTACH;FMTTYPE=image/png:https://hpreiss.de/wp-content/uploads/Wissensforum-Logo-2.png
ORGANIZER;CN="H.Preiss International":MAILTO:info@hpreiss.de
END:VEVENT
BEGIN:VEVENT
DTSTART;TZID=Europe/Berlin:20251006T080000
DTEND;TZID=Europe/Berlin:20251006T093000
DTSTAMP:20260422T032922
CREATED:20241210T085013Z
LAST-MODIFIED:20250814T055806Z
UID:29356-1759737600-1759743000@hpreiss.de
SUMMARY:Online Monteur Meeting - Oktober
DESCRIPTION:Wir freuen uns auf regen Austausch mit unseren Monteuren und freuen uns bereits jetzt drauf unseren Service stetig zu verbessern.
URL:https://hpreiss.de/event/online-monteur-meeting-oktober/
LOCATION:Online
CATEGORIES:Online-Meeting
ATTACH;FMTTYPE=image/png:https://hpreiss.de/wp-content/uploads/Online_Monteurmeeting.png
ORGANIZER;CN="H.Preiss International":MAILTO:info@hpreiss.de
END:VEVENT
BEGIN:VEVENT
DTSTART;TZID=Europe/Berlin:20251006T110000
DTEND;TZID=Europe/Berlin:20251006T130000
DTSTAMP:20260422T032922
CREATED:20241210T082209Z
LAST-MODIFIED:20250814T054326Z
UID:29338-1759748400-1759755600@hpreiss.de
SUMMARY:Online Manager Meeting - Oktober
DESCRIPTION:Wir freuen uns auf einen regen Austausch bei unserem monatlichen Online-Managermeeting.
URL:https://hpreiss.de/event/online-manager-meeting-oktober/
LOCATION:Online
CATEGORIES:Online-Meeting
ATTACH;FMTTYPE=image/png:https://hpreiss.de/wp-content/uploads/Online_Managermeeting.png
ORGANIZER;CN="H.Preiss International":MAILTO:info@hpreiss.de
END:VEVENT
BEGIN:VEVENT
DTSTART;TZID=Europe/Berlin:20251010T100000
DTEND;TZID=Europe/Berlin:20251011T150000
DTSTAMP:20260422T032922
CREATED:20250227T081041Z
LAST-MODIFIED:20250827T063807Z
UID:30433-1760090400-1760194800@hpreiss.de
SUMMARY:Erfolgreich Starten - Oktober
DESCRIPTION:Unser Event „Erfolgreich Starten“ entführt dich in die faszinierende Welt des Wassers – voller Innovationen\, Chancen und spannender Möglichkeiten. Erfahre\, wie hochwertiges Wasser Menschen inspiriert und wie du Teil dieser wachsenden Bewegung werden kannst. \nEgal\, ob du als Einsteiger erste Schritte machst oder als Profi neue Impulse suchst – hier legst du den Grundstein für deine Erfolgsgeschichte. Lass dich von Ideen rund um das Thema Wasser begeistern und entdecke dein Potenzial in einer dynamischen Branche mit vielversprechenden Perspektiven. \nMach den ersten Schritt und lass uns gemeinsam die Zukunft gestalten! \nMelde dich direkt an (hier klicken) >> \nTermin:\n10.10.2025 10:00 – ca. 18:00 Uhr\n11.10.2025 09:00 – ca. 15:00 Uhr \nOrt:\nFirmenzentrale Ipsheim „WATER WORLD“
URL:https://hpreiss.de/event/erfolgreich-starten-oktober-2/
LOCATION:WATER WORLD\, Wasserallee 1-3\, 91472 Ipsheim\, Deutschland
CATEGORIES:Erfolgreich Starten
ATTACH;FMTTYPE=image/png:https://hpreiss.de/wp-content/uploads/Icon_ErfolgreichStarten.png
ORGANIZER;CN="H.Preiss International":MAILTO:info@hpreiss.de
END:VEVENT
BEGIN:VEVENT
DTSTART;TZID=Europe/Berlin:20251013T180000
DTEND;TZID=Europe/Berlin:20251013T210000
DTSTAMP:20260422T032922
CREATED:20241210T072918Z
LAST-MODIFIED:20250814T055224Z
UID:29319-1760378400-1760389200@hpreiss.de
SUMMARY:Online Verkäufer Meeting - Oktober
DESCRIPTION:Wir freuen uns auf einen regen Austausch bei unserem monatlichen Online-Verkäufermeeting.
URL:https://hpreiss.de/event/online-verkaeufer-meeting-oktober/
LOCATION:Online
CATEGORIES:Online-Meeting
ATTACH;FMTTYPE=image/png:https://hpreiss.de/wp-content/uploads/Online_Verkaufsmeeting.png
ORGANIZER;CN="H.Preiss International":MAILTO:info@hpreiss.de
END:VEVENT
END:VCALENDAR