BEGIN:VCALENDAR
VERSION:2.0
PRODID:-//H.Preiss International - ECPv6.13.1//NONSGML v1.0//EN
CALSCALE:GREGORIAN
METHOD:PUBLISH
X-ORIGINAL-URL:https://hpreiss.de
X-WR-CALDESC:Veranstaltungen für H.Preiss International
REFRESH-INTERVAL;VALUE=DURATION:PT1H
X-Robots-Tag:noindex
X-PUBLISHED-TTL:PT1H
BEGIN:VTIMEZONE
TZID:Europe/Berlin
BEGIN:DAYLIGHT
TZOFFSETFROM:+0100
TZOFFSETTO:+0200
TZNAME:CEST
DTSTART:20250330T010000
END:DAYLIGHT
BEGIN:STANDARD
TZOFFSETFROM:+0200
TZOFFSETTO:+0100
TZNAME:CET
DTSTART:20251026T010000
END:STANDARD
END:VTIMEZONE
BEGIN:VEVENT
DTSTART;TZID=Europe/Berlin:20251103T080000
DTEND;TZID=Europe/Berlin:20251103T093000
DTSTAMP:20260423T110301
CREATED:20241210T085609Z
LAST-MODIFIED:20250814T055752Z
UID:29358-1762156800-1762162200@hpreiss.de
SUMMARY:Online Monteur Meeting - November
DESCRIPTION:Wir freuen uns auf regen Austausch mit unseren Monteuren und freuen uns bereits jetzt drauf unseren Service stetig zu verbessern.
URL:https://hpreiss.de/event/online-monteur-meeting-november/
LOCATION:Online
CATEGORIES:Online-Meeting
ATTACH;FMTTYPE=image/png:https://hpreiss.de/wp-content/uploads/Online_Monteurmeeting.png
ORGANIZER;CN="H.Preiss International":MAILTO:info@hpreiss.de
END:VEVENT
BEGIN:VEVENT
DTSTART;TZID=Europe/Berlin:20251103T110000
DTEND;TZID=Europe/Berlin:20251103T130000
DTSTAMP:20260423T110301
CREATED:20241210T082400Z
LAST-MODIFIED:20250814T054343Z
UID:29340-1762167600-1762174800@hpreiss.de
SUMMARY:Online Manager Meeting - November
DESCRIPTION:Wir freuen uns auf einen regen Austausch bei unserem monatlichen Online-Managermeeting.
URL:https://hpreiss.de/event/online-manager-meeting-november/
LOCATION:Online
CATEGORIES:Online-Meeting
ATTACH;FMTTYPE=image/png:https://hpreiss.de/wp-content/uploads/Online_Managermeeting.png
ORGANIZER;CN="H.Preiss International":MAILTO:info@hpreiss.de
END:VEVENT
BEGIN:VEVENT
DTSTART;TZID=Europe/Berlin:20251107T100000
DTEND;TZID=Europe/Berlin:20251108T150000
DTSTAMP:20260423T110301
CREATED:20250227T082110Z
LAST-MODIFIED:20250827T063749Z
UID:30435-1762509600-1762614000@hpreiss.de
SUMMARY:Erfolgreich Starten - November
DESCRIPTION:Unser Event „Erfolgreich Starten“ entführt dich in die faszinierende Welt des Wassers – voller Innovationen\, Chancen und spannender Möglichkeiten. Erfahre\, wie hochwertiges Wasser Menschen inspiriert und wie du Teil dieser wachsenden Bewegung werden kannst. \nEgal\, ob du als Einsteiger erste Schritte machst oder als Profi neue Impulse suchst – hier legst du den Grundstein für deine Erfolgsgeschichte. Lass dich von Ideen rund um das Thema Wasser begeistern und entdecke dein Potenzial in einer dynamischen Branche mit vielversprechenden Perspektiven. \nMach den ersten Schritt und lass uns gemeinsam die Zukunft gestalten! \nMelde dich direkt an (hier klicken) >> \nTermin:\n07.11.2025 10:00 – ca. 18:00 Uhr\n08.11.2025 09:00 – ca. 15:00 Uhr \nOrt:\nFirmenzentrale Ipsheim „WATER WORLD“
URL:https://hpreiss.de/event/erfolgreich-starten-november-2/
LOCATION:WATER WORLD\, Wasserallee 1-3\, 91472 Ipsheim\, Deutschland
CATEGORIES:Erfolgreich Starten
ATTACH;FMTTYPE=image/png:https://hpreiss.de/wp-content/uploads/Icon_ErfolgreichStarten.png
ORGANIZER;CN="H.Preiss International":MAILTO:info@hpreiss.de
END:VEVENT
BEGIN:VEVENT
DTSTART;TZID=Europe/Berlin:20251110T180000
DTEND;TZID=Europe/Berlin:20251110T210000
DTSTAMP:20260423T110301
CREATED:20241210T074821Z
LAST-MODIFIED:20250814T055245Z
UID:29321-1762797600-1762808400@hpreiss.de
SUMMARY:Online Verkäufer Meeting - November
DESCRIPTION:Wir freuen uns auf einen regen Austausch bei unserem monatlichen Online-Verkäufermeeting.
URL:https://hpreiss.de/event/online-verkaeufer-meeting-november/
LOCATION:Online
CATEGORIES:Online-Meeting
ATTACH;FMTTYPE=image/png:https://hpreiss.de/wp-content/uploads/Online_Verkaufsmeeting.png
ORGANIZER;CN="H.Preiss International":MAILTO:info@hpreiss.de
END:VEVENT
END:VCALENDAR