BEGIN:VCALENDAR
VERSION:2.0
PRODID:-//H.Preiss International - ECPv6.13.1//NONSGML v1.0//EN
CALSCALE:GREGORIAN
METHOD:PUBLISH
X-WR-CALNAME:H.Preiss International
X-ORIGINAL-URL:https://hpreiss.de
X-WR-CALDESC:Veranstaltungen für H.Preiss International
REFRESH-INTERVAL;VALUE=DURATION:PT1H
X-Robots-Tag:noindex
X-PUBLISHED-TTL:PT1H
BEGIN:VTIMEZONE
TZID:Europe/Berlin
BEGIN:DAYLIGHT
TZOFFSETFROM:+0100
TZOFFSETTO:+0200
TZNAME:CEST
DTSTART:20250330T010000
END:DAYLIGHT
BEGIN:STANDARD
TZOFFSETFROM:+0200
TZOFFSETTO:+0100
TZNAME:CET
DTSTART:20251026T010000
END:STANDARD
END:VTIMEZONE
BEGIN:VEVENT
DTSTART;TZID=Europe/Berlin:20251201T080000
DTEND;TZID=Europe/Berlin:20251201T093000
DTSTAMP:20260421T234040
CREATED:20241210T085829Z
LAST-MODIFIED:20250814T055738Z
UID:29360-1764576000-1764581400@hpreiss.de
SUMMARY:Online Monteur Meeting - Dezember
DESCRIPTION:Wir freuen uns auf regen Austausch mit unseren Monteuren und freuen uns bereits jetzt drauf unseren Service stetig zu verbessern.
URL:https://hpreiss.de/event/online-monteur-meeting-dezember/
LOCATION:Online
CATEGORIES:Online-Meeting
ATTACH;FMTTYPE=image/png:https://hpreiss.de/wp-content/uploads/Online_Monteurmeeting.png
ORGANIZER;CN="H.Preiss International":MAILTO:info@hpreiss.de
END:VEVENT
BEGIN:VEVENT
DTSTART;TZID=Europe/Berlin:20251201T110000
DTEND;TZID=Europe/Berlin:20251201T130000
DTSTAMP:20260421T234040
CREATED:20241210T082659Z
LAST-MODIFIED:20250813T113237Z
UID:29342-1764586800-1764594000@hpreiss.de
SUMMARY:Online Manager Meeting - Dezember
DESCRIPTION:Wir freuen uns auf einen regen Austausch bei unserem monatlichen Online-Managermeeting.
URL:https://hpreiss.de/event/online-manager-meeting-dezember/
LOCATION:Online
CATEGORIES:Online-Meeting
ATTACH;FMTTYPE=image/png:https://hpreiss.de/wp-content/uploads/Online_Managermeeting.png
ORGANIZER;CN="H.Preiss International":MAILTO:info@hpreiss.de
END:VEVENT
BEGIN:VEVENT
DTSTART;TZID=Europe/Berlin:20251205T100000
DTEND;TZID=Europe/Berlin:20251206T150000
DTSTAMP:20260421T234040
CREATED:20250227T082507Z
LAST-MODIFIED:20250827T063733Z
UID:30438-1764928800-1765033200@hpreiss.de
SUMMARY:Erfolgreich Starten - Dezember
DESCRIPTION:Unser Event „Erfolgreich Starten“ entführt dich in die faszinierende Welt des Wassers – voller Innovationen\, Chancen und spannender Möglichkeiten. Erfahre\, wie hochwertiges Wasser Menschen inspiriert und wie du Teil dieser wachsenden Bewegung werden kannst. \nEgal\, ob du als Einsteiger erste Schritte machst oder als Profi neue Impulse suchst – hier legst du den Grundstein für deine Erfolgsgeschichte. Lass dich von Ideen rund um das Thema Wasser begeistern und entdecke dein Potenzial in einer dynamischen Branche mit vielversprechenden Perspektiven. \nMach den ersten Schritt und lass uns gemeinsam die Zukunft gestalten! \nMelde dich direkt an (hier klicken) >> \nTermin:\n05.12.2025 10:00 – ca. 18:00 Uhr\n06.12.2025 09:00 – ca. 15:00 Uhr \nOrt:\nFirmenzentrale Ipsheim „WATER WORLD“
URL:https://hpreiss.de/event/erfolgreich-starten-dezember-2/
LOCATION:WATER WORLD\, Wasserallee 1-3\, 91472 Ipsheim\, Deutschland
CATEGORIES:Erfolgreich Starten
ATTACH;FMTTYPE=image/png:https://hpreiss.de/wp-content/uploads/Icon_ErfolgreichStarten.png
ORGANIZER;CN="H.Preiss International":MAILTO:info@hpreiss.de
END:VEVENT
BEGIN:VEVENT
DTSTART;TZID=Europe/Berlin:20251208T180000
DTEND;TZID=Europe/Berlin:20251208T210000
DTSTAMP:20260421T234040
CREATED:20241210T075036Z
LAST-MODIFIED:20250814T053503Z
UID:29323-1765216800-1765227600@hpreiss.de
SUMMARY:Online Verkäufer Meeting - Dezember
DESCRIPTION:Wir freuen uns auf einen regen Austausch bei unserem monatlichen Online-Verkäufermeeting.
URL:https://hpreiss.de/event/online-verkaeufer-meeting-dezember/
LOCATION:Online
CATEGORIES:Online-Meeting
ATTACH;FMTTYPE=image/png:https://hpreiss.de/wp-content/uploads/Online_Verkaufsmeeting.png
ORGANIZER;CN="H.Preiss International":MAILTO:info@hpreiss.de
END:VEVENT
END:VCALENDAR