BEGIN:VCALENDAR
VERSION:2.0
PRODID:-//H.Preiss International - ECPv6.13.1//NONSGML v1.0//EN
CALSCALE:GREGORIAN
METHOD:PUBLISH
X-WR-CALNAME:H.Preiss International
X-ORIGINAL-URL:https://hpreiss.de
X-WR-CALDESC:Veranstaltungen für H.Preiss International
REFRESH-INTERVAL;VALUE=DURATION:PT1H
X-Robots-Tag:noindex
X-PUBLISHED-TTL:PT1H
BEGIN:VTIMEZONE
TZID:Europe/Berlin
BEGIN:DAYLIGHT
TZOFFSETFROM:+0100
TZOFFSETTO:+0200
TZNAME:CEST
DTSTART:20260329T010000
END:DAYLIGHT
BEGIN:STANDARD
TZOFFSETFROM:+0200
TZOFFSETTO:+0100
TZNAME:CET
DTSTART:20261025T010000
END:STANDARD
END:VTIMEZONE
BEGIN:VEVENT
DTSTART;TZID=Europe/Berlin:20260425T140000
DTEND;TZID=Europe/Berlin:20260425T220000
DTSTAMP:20260421T162207
CREATED:20251106T144204Z
LAST-MODIFIED:20260331T055304Z
UID:35739-1777125600-1777154400@hpreiss.de
SUMMARY:H.Preiss Akademie Wissensforum für Partner
DESCRIPTION:Wir laden dich zum dritten H.Preiss Akademie Wissensforum für Partner ein. \nZeitplan: \n14.00 bis 15.00 Uhr  Happy Hour (Kaffee & Kuchen) \n15.00 bis 16.45 Uhr  Wissensforum Teil 1 \n16.45 bis 17.00 Uhr  Pause \n17.00 bis 18.30 Uhr  Wissensforum Teil 2 \n18.30 bis 20.00 Uhr  Gala-Dinner (Abendessen) \n20.00 bis 21.30 Uhr  Wissensforum Teil 3 \nca. 21.30 Uhr        „Das darfst du nicht verpassen!“ \n  \nSeminargebühren inkl. Verpflegung: 49\,00 € pro Person \nDresscode: Business Casual – gern gepflegt und bequem \nTermin:\n25.04.2026 ca. 14:00 – ca. 22:00 Uhr \nOrt: Firmenzentrale Ipsheim „WATER WORLD“ \n  \n>> Hier Ticket sichern! >>\n  \nWir freuen uns auf dich!\nDein Team von H.Preiss
URL:https://hpreiss.de/event/erfolgreich-starten-april-2/
LOCATION:WATER WORLD\, Wasserallee 1-3\, 91472 Ipsheim\, Deutschland
ATTACH;FMTTYPE=image/png:https://hpreiss.de/wp-content/uploads/Wissensforum-Logo-2.png
ORGANIZER;CN="H.Preiss International":MAILTO:info@hpreiss.de
END:VEVENT
END:VCALENDAR